BEGIN:VCALENDAR
PRODID:NingEventWidget-v1
VERSION:2.0
METHOD:PUBLISH
BEGIN:VEVENT
UID:4320450:Event:45339
DTSTAMP:20260425T161542Z
SUMMARY:The Magic Toy Shop (La Boutique Fantasque)
DESCRIPTION:The Magic Toy Shop (La Boutique Fantasque) is an exciting 
 fusion of classical ballet and circus arts like you’ve never seen! P
 ennsylvania Academy of Ballet Society and the Philadelphia School of C
 ircus Arts present a delightful story about toys that come to life, an
  exceptional little girl, and a love that endures despite the odds.  
 This new ballet makes its debut at Upper Darby Performing Arts Center 
 (601 N Landsdowne Avenue, Drexel Hill) on Friday, May 6 at 7:30pm, and
  Saturday, May 7 at 2:00pm and 7:00pm. Tickets are only $12-15 and ava
 ilable by visiting udpac.org or by calling 610-622-1189.\n\nFor more i
 nformation visit http://phillytodo.com/events/the-magic-toy-shop-la-bo
 utique-fantasque
DTSTART:20160506T233000Z
DTEND:20160507T230000Z
CATEGORIES:ballet, performance, circus
LOCATION:Upper Darby Performing Arts Center
WEBSITE:http://bit.ly/1XhF2sB
URL:http://bit.ly/1XhF2sB
CONTACT:6106221189
ORGANIZER;CN="Aversa PR & Events":http://phillytodo.com/profile/KoryAv
 ersa277
ATTACH;FMTTYPE="image/jpeg":http://storage.ning.com/topology/rest/1.0/
 file/get/3054995958?profile=original
ATTENDEE;ROLE=REQ-PARTICIPANT;PARTSTAT=ACCEPTED;RSVP=TRUE;CN="Aversa P
 R & Events":http://phillytodo.com/profile/KoryAversa277
END:VEVENT
END:VCALENDAR
