BEGIN:VCALENDAR
PRODID:NingEventWidget-v1
VERSION:2.0
METHOD:PUBLISH
BEGIN:VEVENT
UID:4320450:Event:49221
DTSTAMP:20260425T131311Z
SUMMARY:The Love Stories of Woodford Mansion
DESCRIPTION:From 10:00 am – 4:00 pm, This Valentine's week, the hist
 ory of Woodford Mansion comes to life in the stories of the prominent 
 families who lived there during the tumultuous period surrounding the 
 American Revolutionary War. One can imagine a story​ worthy of Downt
 on Abbey, when Loyalist, Jewish merchant David Franks fell in love wit
 h Philadelphia Quaker Margaret Evans. Their youngest daughter, Rebecca
  Franks was known for her wit and beauty, and married British​ Colon
 el Henry Johnson. Hear the story of Comptroller for the Crown ​Alexa
 nder Barclay and ​Ann Hickman Barclay, whose portraits hang in the f
 ront hall of Woodford Mansion. From Valentine's Day, February 14th thr
 ough Sunday, February 19th, visit Woodford Mansion to learn more about
  these tales of life and love during the American Revolution.\nAdmissi
 on is $8 for an adult, $5 for Senior Citizens (65+) and students with 
 a valid id and youths (13-17). Children under 12 are free. Free parkin
 g is available in a parking area behind the house, as well as along th
 e street.\n\nFor more information visit http://phillytodo.com/events/t
 he-love-stories-of-woodford-mansion
DTSTART:20170214T150000Z
DTEND:20170219T210000Z
CATEGORIES:tour
LOCATION:Woodford Mansion
WEBSITE:http://www.woodfordmansion.org/
URL:http://www.woodfordmansion.org/
CONTACT:(215) 229-6115
ORGANIZER:En Route Marketing
ATTACH;FMTTYPE="image/jpeg":http://storage.ning.com/topology/rest/1.0/
 file/get/3055002183?profile=original
ATTENDEE;ROLE=REQ-PARTICIPANT;PARTSTAT=ACCEPTED;RSVP=TRUE;CN="Bryan Ch
 an":http://phillytodo.com/profile/BryanChan
END:VEVENT
END:VCALENDAR
