BEGIN:VCALENDAR
PRODID:NingEventWidget-v1
VERSION:2.0
METHOD:PUBLISH
BEGIN:VEVENT
UID:4320450:Event:46522
DTSTAMP:20260425T132637Z
SUMMARY:The Logan Hotel Yoga Experience
DESCRIPTION:Â Enjoy whispering breezes andÂ tranquil fountain streamsÂ
  as you begin your day with an invigorating early-morning yoga experie
 nce amidst the green landscape of The Logan Hotelâ€™s courtyard. The C
 oreFitness class combines gentle to moderateÂ stretching, core and arm
  toningÂ movesÂ withÂ soothing sun salutationsÂ that will lift your sp
 irit for the day ahead. CoreFitness class card holders, class pass, an
 d walk-ins welcome. Courtyard Walk-In Rate: $15\n\nFor more informatio
 n visit http://phillytodo.com/events/the-logan-hotel-yoga-experience
DTSTART:20160629T100000Z
DTEND:20160629T230000Z
CATEGORIES:"yoga/health/wellness"
LOCATION:The Logan Hotel
WEBSITE:http://core-fit.com/corefitness-logan-hotel-yoga-experience/
URL:http://core-fit.com/corefitness-logan-hotel-yoga-experience/
CONTACT:215-627-1060
ORGANIZER;CN=CashmanAssoc:http://phillytodo.com/profile/CashmanAssoc
ATTACH;FMTTYPE="image/jpeg":http://storage.ning.com/topology/rest/1.0/
 file/get/3054995349?profile=original
ATTENDEE;ROLE=REQ-PARTICIPANT;PARTSTAT=ACCEPTED;RSVP=TRUE;CN=CashmanAs
 soc:http://phillytodo.com/profile/CashmanAssoc
END:VEVENT
END:VCALENDAR
