BEGIN:VCALENDAR
PRODID:NingEventWidget-v1
VERSION:2.0
METHOD:PUBLISH
BEGIN:VEVENT
UID:4320450:Event:49420
DTSTAMP:20260425T112438Z
SUMMARY:The Light Princess
DESCRIPTION:A world premiere!Adapted from the story by George MacDonal
 dBook and Lyrics by Tony LawtonMusic by Alex Bechtel April 5 - May 28
 On the Arcadia Stage \nA new musical takes flight.Based on a Scottish
  legend by George MacDonald, this play tells the story of a teenager w
 ho has no gravity of any kind – in addition to having no feelings fo
 r others she floats in the air, unable to ever touch the ground.  Fil
 led with wonderful characters and a beguiling score, this enchanting, 
 clever and wickedly funny new musical will delight kids and parents al
 ike.Most enjoyed by families with children ages 6 and older.\n\nFor mo
 re information visit http://phillytodo.com/events/the-light-princess
DTSTART:20170405T140000Z
DTEND:20170528T140000Z
CATEGORIES:theater, "children's", musical
LOCATION:Arden Theatre Company
WEBSITE:https://tickets.ardentheatre.org/Online/default.asp?BOparam::W
 Scontent::loadArticle::permalink=thelightprincess&BOparam::WScontent::
 loadArticle::context_id=
URL:https://tickets.ardentheatre.org/Online/default.asp?BOparam::WScon
 tent::loadArticle::permalink=thelightprincess&BOparam::WScontent::load
 Article::context_id=
CONTACT:215-922-1122
ORGANIZER;CN="Arden Theatre Company":http://phillytodo.com/profile/Ard
 enTheatreCompany
ATTACH;FMTTYPE="image/jpeg":http://storage.ning.com/topology/rest/1.0/
 file/get/3055003140?profile=original
ATTENDEE;ROLE=REQ-PARTICIPANT;PARTSTAT=ACCEPTED;RSVP=TRUE;CN="Arden Th
 eatre Company":http://phillytodo.com/profile/ArdenTheatreCompany
END:VEVENT
END:VCALENDAR
