BEGIN:VCALENDAR
PRODID:NingEventWidget-v1
VERSION:2.0
METHOD:PUBLISH
BEGIN:VEVENT
UID:4320450:Event:31840
DTSTAMP:20260425T173647Z
SUMMARY:The Lemon Society Speak Easy
DESCRIPTION:This is not your typical speak easy, and there is no need 
 to know a secret password to get in. The only catch is you have to be 
 willing to serve a good cause, and commit a good deed while drinking.Â
  \n\nThis is a premier mixology event with a prohibition theme to rais
 e funds for Alex's Lemonade Stand Foundation's Annual Childhood Cancer
  Symposium benefiting families affected by childhood cancer.\n\nThe ev
 ent will feature local mixologists, delicious food, and prohibition pe
 riod music. For more info visit the website.\n\nFor more information v
 isit http://phillytodo.com/events/the-lemon-society-speak-easy
DTSTART:20130414T000000Z
DTEND:20130414T030000Z
CATEGORIES:fundraiser
LOCATION:Pyramid Club
WEBSITE:http://www.alexslemonade.org/campaign/lemon-society-speakeasy
URL:http://www.alexslemonade.org/campaign/lemon-society-speakeasy
CONTACT:
ORGANIZER:For any questions, contact Erin Ohlsen - Erin@AlexsLemonade.
 org
ATTACH;FMTTYPE="image/jpeg":http://storage.ning.com/topology/rest/1.0/
 file/get/3054965811?profile=original
ATTENDEE;ROLE=REQ-PARTICIPANT;PARTSTAT=ACCEPTED;RSVP=TRUE;CN="Cindy Fi
 gueroa @ceefig":http://phillytodo.com/profile/CindyFigueroa
END:VEVENT
END:VCALENDAR
