BEGIN:VCALENDAR
PRODID:NingEventWidget-v1
VERSION:2.0
METHOD:PUBLISH
BEGIN:VEVENT
UID:4320450:Event:47273
DTSTAMP:20260425T125337Z
SUMMARY:The Legend of Georgia McBride
DESCRIPTION:By Matthew Lopez.\nDirected by Emmanuelle Delpech.\nOn the
  Arcadia Stage.\nOctober 13 - November 27, 2016.\n\nHe's young, he's b
 roke, he's just found out his wife is going to have a baby, and now Ca
 sey has lost his gig as an Elvis impersonator. When his club brings in
  a drag act led by Miss Tracy Mills, Casey is given the opportunity to
  trade one sequined outfit for another. With Dito van Reigersberg of M
 artha Graham Cracker fame as Tracy, this music-filled comedy celebrate
 s finding your voice and singing your own song.\n\nFor more informatio
 n visit http://phillytodo.com/events/the-legend-of-georgia-mcbride
DTSTART:20161014T000000Z
DTEND:20161128T020000Z
CATEGORIES:theatre, performance
LOCATION:Arden Theatre Company
WEBSITE:https://tickets.ardentheatre.org/Online/default.asp
URL:https://tickets.ardentheatre.org/Online/default.asp
CONTACT:215-922-1122
ORGANIZER;CN="Arden Theatre Company":http://phillytodo.com/profile/Ard
 enTheatreCompany
ATTACH;FMTTYPE="image/jpeg":http://storage.ning.com/topology/rest/1.0/
 file/get/3054998232?profile=original
ATTENDEE;ROLE=REQ-PARTICIPANT;PARTSTAT=ACCEPTED;RSVP=TRUE;CN="Arden Th
 eatre Company":http://phillytodo.com/profile/ArdenTheatreCompany
END:VEVENT
END:VCALENDAR
