BEGIN:VCALENDAR
PRODID:NingEventWidget-v1
VERSION:2.0
METHOD:PUBLISH
BEGIN:VEVENT
UID:4320450:Event:36305
DTSTAMP:20260425T144149Z
SUMMARY:The Legacy Continues…Join us in the unveiling of GIOVANNI & 
 PILEGGI’s beautiful new home!
DESCRIPTION:The Legacy Continues…Join us in the unveiling of GIOVANN
 I & PILEGGI’s beautiful new home!\n308 South 12th St. Philadelphia T
 hursday, April 10, 2014 6pm to 8pm\nChampagne, cocktails, & light bite
 s\nNamed Philadelphia Magazine’s “Best of Philly,” Philadelphia 
 Style’s “Best of Style,” and Elle Magazine’s “100 Best Salon
 s in The Country”.\n Kindly RSVP to Cashman & Associates at 215-
 627-1082 ext. 105 or rsvp@cashmanandassociates.com\n\nFor more inform
 ation visit http://phillytodo.com/events/the-legacy-continues-join-us-
 in-the-unveiling-of-giovanni-pileggi
DTSTART:20140410T220000Z
DTEND:20140411T000000Z
CATEGORIES:special, event, opening
LOCATION:Giovanni & Pileggi
WEBSITE:http://www.giovannipileggi.com/index.php
URL:http://www.giovannipileggi.com/index.php
CONTACT:215.568.3040
ORGANIZER:Giovanni & Pileggi
ATTACH;FMTTYPE="image/jpeg":http://storage.ning.com/topology/rest/1.0/
 file/get/3054974171?profile=original
ATTENDEE;ROLE=REQ-PARTICIPANT;PARTSTAT=ACCEPTED;RSVP=TRUE;CN=CashmanAs
 soc:http://phillytodo.com/profile/CashmanAssoc
END:VEVENT
END:VCALENDAR
