BEGIN:VCALENDAR
PRODID:NingEventWidget-v1
VERSION:2.0
METHOD:PUBLISH
BEGIN:VEVENT
UID:4320450:Event:1715
DTSTAMP:20260423T071743Z
SUMMARY:THE LATEST DISH: $15 GETS YOU $35
DESCRIPTION:The Latest Dish Deal! This is so amazing $15 GETS YOU $35 
 - this is a Philly Favorite; love the Calamari with sweet chili dippin
 g Sauce, Seitan Meatloaf, Crispy Salmon and alas...the Lobster Mac & C
 heese. Mmmmm..yummy, Not to mention Owner Tony Schiro always has a war
 m smile and the cutest staff!\nhttp://www.mydailythread.com/Philadelph
 ia\n\nFor more information visit http://phillytodo.com/events/the-late
 st-dish-15-gets-you-35
DTSTART:20100610T220000Z
DTEND:20100614T034500Z
CATEGORIES:dining, deal, -, purchase, online, "http://www.mydailythrea
 d.com/philadelphia"
LOCATION:http://www.mydailythread.com/Philadelphia
WEBSITE:
URL:
CONTACT:
ORGANIZER;CN="MyDailyThread Philly":http://phillytodo.com/profile/MyDa
 ilyThreadPhilly
ATTACH;FMTTYPE="image/jpeg":http://storage.ning.com/topology/rest/1.0/
 file/get/3054949747?profile=original
ATTENDEE;ROLE=REQ-PARTICIPANT;PARTSTAT=ACCEPTED;RSVP=TRUE;CN="MyDailyT
 hread Philly":http://phillytodo.com/profile/MyDailyThreadPhilly
END:VEVENT
END:VCALENDAR
