BEGIN:VCALENDAR
PRODID:NingEventWidget-v1
VERSION:2.0
METHOD:PUBLISH
BEGIN:VEVENT
UID:4320450:Event:59523
DTSTAMP:20260425T163312Z
SUMMARY:The Jewish New Media Festival
DESCRIPTION:The Jewish New Media Festival, presented by the Gershman P
 hiladelphia Jewish Film Festival, will be held at the National Museum 
 of American Jewish History Dec. 7-8, 2019. This will be the first fest
 ival of its kind in the country, dedicated to sharing, celebrating, an
 d exploring Jewish storytelling in the digital-global age. This weeken
 d-long festival will bring together the works of established and emer
 ging New Media artists, media producers, and though leaders for two da
 ys of exploration, connection, and innovation. Highlights include An
  Evening with Jessica Katz, co-host of Amazon’s new hit series Tec
 h Talk with Special Guest Nancy Spielberg; YidLive! An Evening of Co
 medy, Music and Thought-Provoking Shtick with Jamie Elman & Eli Batali
 on of YidLife Crisis. Saturday festival passes are $25, Sunday festiva
 l passes are $35 and two-day festival passes are $50 ($10 discount). F
 or full lineup, please visit PJFF.org or call (215-545-4400).\n\nFor m
 ore information visit http://phillytodo.com/events/the-jewish-new-medi
 a-festival
DTSTART:20191207T170000Z
DTEND:20191209T030000Z
CATEGORIES:festival
LOCATION:National Museum of American Jewish History
WEBSITE:
URL:
CONTACT:
ORGANIZER:Gershman Philadelphia Jewish Film Festival
ATTACH;FMTTYPE="image/jpeg":https://storage.ning.com/topology/rest/1.0
 /file/get/3714439669?profile=original
ATTENDEE;ROLE=REQ-PARTICIPANT;PARTSTAT=ACCEPTED;RSVP=TRUE;CN="Paige Wo
 lf":http://phillytodo.com/profile/PaigeWolf
END:VEVENT
END:VCALENDAR
