BEGIN:VCALENDAR
PRODID:NingEventWidget-v1
VERSION:2.0
METHOD:PUBLISH
BEGIN:VEVENT
UID:4320450:Event:46101
DTSTAMP:20260425T124841Z
SUMMARY:The Invisible Hand
DESCRIPTION:Theatre Exile presents the Philadelphia premiere of politi
 cally-charged “The Invisible Hand” from May 12 - June 5, 2016 (var
 ious times) at Studio X (1340 S. 13th Street). Nick, an American Banke
 r in Pakistan, is kidnapped and held for ransom by an Islamic militant
  group. Realizing he has no way out, he takes matters into his own han
 ds and befriends one of his captors. Thus begins a journey full of que
 stionable alliances and moral bargaining during a fight for survival, 
 leaving audiences searching for answers even after the play is over. W
 ritten by Pulitzer Prize winner Ayad Akhtar, directed by Matthew Pfeif
 fer, and starring Ian Merrill Peakes and Maboud Ebramhimzadeh. Tickets
  are $10-40 at www.theatreexile.org or call (215) 218-4022.\n \n\nFor
  more information visit http://phillytodo.com/events/the-invisible-han
 d
DTSTART:20160515T190000Z
DTEND:20160605T190000Z
CATEGORIES:play, theatre, performing, arts
LOCATION:Theatre Exile Studio X
WEBSITE:http://www.theatreexile.org/episodes/invisible-hand-ayad-akhta
 r.html
URL:http://www.theatreexile.org/episodes/invisible-hand-ayad-akhtar.ht
 ml
CONTACT:(215) 218-4022
ORGANIZER;CN="Aversa PR & Events":http://phillytodo.com/profile/KoryAv
 ersa277
ATTACH;FMTTYPE="image/jpeg":
ATTENDEE;ROLE=REQ-PARTICIPANT;PARTSTAT=ACCEPTED;RSVP=TRUE;CN="Aversa P
 R & Events":http://phillytodo.com/profile/KoryAversa277
END:VEVENT
END:VCALENDAR
