BEGIN:VCALENDAR
PRODID:NingEventWidget-v1
VERSION:2.0
METHOD:PUBLISH
BEGIN:VEVENT
UID:4320450:Event:2464
DTSTAMP:20260425T155105Z
SUMMARY:The HIP HOP showcase @ Philly F|M
DESCRIPTION:ON TYME EVENTS has partnered with Philly F/M to bring you 
 an exclusive HIP HOP Showcase (At Club Risque) during this years Phill
 y F/M Festival. The showcase is Sept. 23rd & Sept. 26th and includes l
 ocal and national artists, drink specials, live bands, FREE parking an
 d FREE entrance into Club Risque with showcase ticket.\n\nSeptember 23
 rd. Doors 8:30 Show 9:00 After party 12-2am $10 at door.\n\nFel Sweete
 nberg\nDumhi\n84\nVia Flux\nEthel Cee & DJ Ultraviolet\nMarc J\nAfter 
 Party DJ: DJ Flux\n\nSeptember 26th. Doors 8:30 Show 9:00 After party 
 12-2am $10 at door.\n\nChase Allen\nPoindexter\nGod’silla\nA-Class &
  Tom Delay\nDirt Platoon\nAfter Party DJ: Tom Delay\n\nFor more inform
 ation visit http://phillytodo.com/events/the-hip-hop-showcase-philly
DTSTART:20100924T003000Z
DTEND:20100926T060000Z
CATEGORIES:concert, music, event
LOCATION:Upstairs at Risque (Club Risque)
WEBSITE:http://www.ontymemusicmarketing.com/on-tyme-events/philly-fm-f
 estival
URL:http://www.ontymemusicmarketing.com/on-tyme-events/philly-fm-festi
 val
CONTACT:
ORGANIZER;CN="On Tyme Music Marketing":http://phillytodo.com/profile/O
 nTymeMusicMarketing
ATTACH;FMTTYPE="image/jpeg":http://storage.ning.com/topology/rest/1.0/
 file/get/3054950529?profile=original
ATTENDEE;ROLE=REQ-PARTICIPANT;PARTSTAT=ACCEPTED;RSVP=TRUE;CN="On Tyme 
 Music Marketing":http://phillytodo.com/profile/OnTymeMusicMarketing
END:VEVENT
END:VCALENDAR
