BEGIN:VCALENDAR
PRODID:NingEventWidget-v1
VERSION:2.0
METHOD:PUBLISH
BEGIN:VEVENT
UID:4320450:Event:52058
DTSTAMP:20260425T123852Z
SUMMARY:The Hidden Life of Trees Book Discussion
DESCRIPTION:The Schuylkill Center and the Pennsylvania Horticultural S
 ociety are partnering up to discuss The Hidden Life of Trees, by Pe
 ter Wohlleben. Examining how a forest is a social network much like a 
 family is, the book is “a powerful reminder to slow down and tune in
 to the language of nature”.\nIf you can’t make it out to the Schuy
 lkill Center on October 12th, stop by the Pennsylvania Horticultural S
 ociety on Thursday, November 2nd from 6 – 8 pm, or Thursday, Novembe
 r 9th from 12 – 1 pm , for another chance to discuss this book. Regi
 ster for that event here. \n\nFor more information visit http://phil
 lytodo.com/events/the-hidden-life-of-trees-book-discussion
DTSTART:20171012T223000Z
DTEND:20171013T003000Z
CATEGORIES:book, club
LOCATION:Schuylkill Center for Environmental Education
WEBSITE:https://schuylkillcenter.pivvit.com/the-hidden-life-of-trees-b
 ook-discussion
URL:https://schuylkillcenter.pivvit.com/the-hidden-life-of-trees-book-
 discussion
CONTACT:2154827300
ORGANIZER;CN="The Schuylkill Center":http://phillytodo.com/profile/Ann
 aLehrMueser
ATTACH;FMTTYPE="image/jpeg":http://storage.ning.com/topology/rest/1.0/
 file/get/3055004678?profile=original
ATTENDEE;ROLE=REQ-PARTICIPANT;PARTSTAT=ACCEPTED;RSVP=TRUE;CN="The Schu
 ylkill Center":http://phillytodo.com/profile/AnnaLehrMueser
END:VEVENT
END:VCALENDAR
