BEGIN:VCALENDAR
PRODID:NingEventWidget-v1
VERSION:2.0
METHOD:PUBLISH
BEGIN:VEVENT
UID:4320450:Event:48504
DTSTAMP:20260425T124103Z
SUMMARY:The Glitter City Gala - Philly's Hottest New Year's Eve Party
DESCRIPTION:New Year's Eve is all about your friends, the party, what'
 s included, and the location - and this year, we have the very best op
 tion in town!  The Glitter City Gala will be the most well-attended, 
 fun, and talked about New Year's Eve event in Philadelphia.  This yea
 r, over 1,500 guests will \"dress up, get down and ring in the New Yea
 r right\" on multiple party floors with superstar-band CTO Soho rock
 ing the stage with live music all night long!\n\n\nPhilly's First Ever
  LIVE \"Liberty Bell Drop\"!\nPicture it:  It's a few minutes before 
 midnight and the clock is counting down.  Then we hit 11:59pm our own
  special lit up Liberty Bell starts to fall.   As the clock strikes
  12, The Liberty Bell stops and over tens of thousands of pieces of co
 nfetti explodes on the crowd at the stroke of midnight to ring in 2017
 .  The very first Bell Drop - a moment you'll never forget and you ca
 n only experience this at the Glitter City Gala.\n\n\n\n\n\nGeneral Ad
 mission Tickets Include:\n\nParty music all-night-long by CTO Soho - w
 e promise nothing but the best!\n5-hour open bar (extra hour for VIPs)
  with specialty martini bars and beer bars\nPremium name-brands mixed 
 drinks (top shelf vodka for VIPs)\nWine, Beer, Champagne\nBottled Wate
 r\n\n\nHeavy buffet food stations + carving stations\nDJ entertainment
  between sets. \nAdmission to two FREE 2-Hour OPEN BAR Reunion Partie
 s in 2017!\nChampagne available at bars & special tables for toasting 
 with friends at midnight\nWatch the ball drop on the huge video screen
 s\nPlenty of party favor tables to make the night complete\nEntertaine
 rs with body painting, glow hooping, etc.\nBe a part of event history 
 with our event videographer and professional photographers.\nDo not fo
 rget to get your picture taken on the back drop!\n\n\nA \"to go\" coff
 ee/water/dessert area as you leave for the night\n\n\nVIP Admission Ti
 ckets Include:\n\nEverything included with General Admission, PLUS:\n
 \"Behind the Velvet Rope\" exclusive access to the mezzanine area wher
 e you can people & band-watch all night long from high above\nEarly en
 trance starting at 8pm with a 1-hour VIP welcome reception including o
 pen bar, buffet foods, and champagne.\nCarving stations, buffets, and 
 sushi\nPrivate, Quick VIP Entrance.\nPrivate Party Favors Table\nNOTE:
  VIPs can mix and mingle with the others in the General Admission area
 . The VIP area is a private area for VIPs only, but you have access to
  all the general admission locations as well\n\nVIP Reserved Seating T
 ickets Include\n\nEverything included with VIP, PLUS:\nA reserved tab
 le all night long with a spectacular view overlooking the band & entir
 e party from your balcony\nWaitress service - running low on that glas
 s of champagne? Need another beer or martini?  No problem, make the s
 ignal and your fresh glass will arrive shortly...\nLimited to groups o
 f 4 or more only\n\nUltra VIP Reserved Seating + Champagne Bottle Serv
 ice Tickets Include:\n\nEverything with VIP Reserved Seating, PLUS:\n
 Champagne bottle service (1 bottle upon arrival and 1 bottle just befo
 re midnight on your table per 4 people).\n Limited to groups of 4 or 
 more only.\n\n\nFor more information visit http://phillytodo.com/event
 s/the-glitter-city-gala-philly-s-hottest-new-year-s-eve-party-1
DTSTART:20170101T010000Z
DTEND:20170101T070000Z
CATEGORIES:new, years, eve
LOCATION:Hyatt at The Bellevue
WEBSITE:http://www.upcomingevents.com/e/the-glitter-city-gala-new-year
 s-eve-in-philadelphia-28366/?ref=ptodo
URL:http://www.upcomingevents.com/e/the-glitter-city-gala-new-years-ev
 e-in-philadelphia-28366/?ref=ptodo
CONTACT:2155894163
ORGANIZER;CN="UpcomingEvents.com":http://phillytodo.com/profile/Upcomi
 ngEventscom
ATTACH;FMTTYPE="image/jpeg":
ATTENDEE;ROLE=REQ-PARTICIPANT;PARTSTAT=ACCEPTED;RSVP=TRUE;CN="Upcoming
 Events.com":http://phillytodo.com/profile/UpcomingEventscom
END:VEVENT
END:VCALENDAR
