BEGIN:VCALENDAR
PRODID:NingEventWidget-v1
VERSION:2.0
METHOD:PUBLISH
BEGIN:VEVENT
UID:4320450:Event:39969
DTSTAMP:20260425T150237Z
SUMMARY:The Gin Canaries Live at Taproom on 19th
DESCRIPTION:The Gin Canaries bring their jazzy 1920’s-40’s sound t
 o Taproom on 19th (2400 S. 19th St.) on Wednesday, February 11, 2015 f
 or a free performance from 7pm to 10pm. This will be the first of a se
 ries performance by The Gin Canaries once a month at Taproom continuin
 g on Wednesday, March 11, 2015 and Wednesday, April 15, 2015. During 
 the show the bar will be serving up a special Gin Fizz cocktail to get
  you in the swing of the era and, when you bring in a coat donation fo
 r the Girard Estate Neighbors Association coat drive, get $2.00 off a 
 Gin Fizz or a free Chesterfield. Limit one per guest. Must be 21 or ol
 der to drink. For more information, visit www.taproomon19th.com or cal
 l 267-687-7817.\n\nFor more information visit http://phillytodo.com/ev
 ents/the-gin-canaries-live-at-taproom-on-19th
DTSTART:20150212T000000Z
DTEND:20150212T030000Z
CATEGORIES:concert
LOCATION:Taproom on 19th
WEBSITE:http://www.taproomon19th.com
URL:http://www.taproomon19th.com
CONTACT:267-687-7817
ORGANIZER;CN="Aversa PR & Events":http://phillytodo.com/profile/KoryAv
 ersa277
ATTACH;FMTTYPE="image/jpeg":http://storage.ning.com/topology/rest/1.0/
 file/get/3054987425?profile=original
ATTENDEE;ROLE=REQ-PARTICIPANT;PARTSTAT=ACCEPTED;RSVP=TRUE;CN="Aversa P
 R & Events":http://phillytodo.com/profile/KoryAversa277
END:VEVENT
END:VCALENDAR
