BEGIN:VCALENDAR
PRODID:NingEventWidget-v1
VERSION:2.0
METHOD:PUBLISH
BEGIN:VEVENT
UID:4320450:Event:39972
DTSTAMP:20260425T144531Z
SUMMARY:The Gin Canaries Live at Taproom on 19th
DESCRIPTION:The Gin Canaries bring their jazzy 1920’s-40’s sound t
 o Taproom on 19th (2400 S. 19th St.) on Wednesday, March 11, 2015 and 
 Wednesday, April 15, 2015 for a free performance from 7pm to 10pm. Enj
 oy a special Gin Fizz cocktail to get you in the swing of the era. No 
 admission, free event. Must be 21 or older to drink. For more informat
 ion, visit www.taproomon19th.com or call 267-687-7817.\n\nFor more inf
 ormation visit http://phillytodo.com/events/the-gin-canaries-live-at-t
 aproom-on-19th-1
DTSTART:20150311T230000Z
DTEND:20150312T020000Z
CATEGORIES:concert
LOCATION:Taproom on 19th
WEBSITE:http://www.taproomon19th.com
URL:http://www.taproomon19th.com
CONTACT:267-687-7817
ORGANIZER;CN="Aversa PR & Events":http://phillytodo.com/profile/KoryAv
 ersa277
ATTACH;FMTTYPE="image/jpeg":http://storage.ning.com/topology/rest/1.0/
 file/get/3054987425?profile=original
ATTENDEE;ROLE=REQ-PARTICIPANT;PARTSTAT=ACCEPTED;RSVP=TRUE;CN="Aversa P
 R & Events":http://phillytodo.com/profile/KoryAversa277
END:VEVENT
END:VCALENDAR
