BEGIN:VCALENDAR
PRODID:NingEventWidget-v1
VERSION:2.0
METHOD:PUBLISH
BEGIN:VEVENT
UID:4320450:Event:33951
DTSTAMP:20260425T130743Z
SUMMARY:The Gerald and Janet Carrus Foundation Presents Musical Chairs
DESCRIPTION:The Gerald and Janet Carrus Foundation hosts an exclusive 
 movie screening of the inspiring dance film, Musical Chairs, which is 
 produced by Janet Carrus and directed by Philadelphia native Susan Sei
 delman. Prior to Musical Chairs, guests will be amongst the first to w
 atch the short film, Modify to Fit, by Patrick Murphy. All proceeds be
 nefit the Crossroads Adaptive Athletic Alliance organization and the M
 ayor’s Commission on People with Disabilities (MCPD), specifically T
 he Oliver HM Jordan Scholarship for Students with Disabilities. \n\nF
 or more information visit http://phillytodo.com/events/the-gerald-and-
 janet-carrus-foundation-presents-musical-chairs
DTSTART:20130921T220000Z
DTEND:20130922T033000Z
CATEGORIES:film
LOCATION:Kimmel Center
WEBSITE:
URL:
CONTACT:215-893-1999
ORGANIZER:
ATTACH;FMTTYPE="image/jpeg":
ATTENDEE;ROLE=REQ-PARTICIPANT;PARTSTAT=ACCEPTED;RSVP=TRUE;CN=CashmanAs
 soc:http://phillytodo.com/profile/CashmanAssoc
END:VEVENT
END:VCALENDAR
