BEGIN:VCALENDAR
PRODID:NingEventWidget-v1
VERSION:2.0
METHOD:PUBLISH
BEGIN:VEVENT
UID:4320450:Event:41446
DTSTAMP:20260425T144150Z
SUMMARY:The Future of Nature Centers: a Meigs Award Town Meeting
DESCRIPTION:The region’s nature center community gathers to honor on
 e of its own while discussing its collective future. Bob Mercer, belov
 ed director of the Silver Lake Nature Center in Bristol, is retiring a
 fter 40 years, and receives the 10th annual Henry Meigs Award for Env
 ironmental Leadership, named for one of our founders. After presenting
  his thoughts on the future of nature and environmental education cent
 ers, Bob will be joined by leaders from the Schuylkill Center, Fairmou
 nt Water Works, New Jersey’s Stony Brook-Millstone Watershed Associa
 tion, and Delaware Nature Society to engage the audience in a conversa
 tion on the future of the region’s many environmental education cent
 ers. Refreshments served.\nThis is a free event.\n\nFor more informati
 on visit http://phillytodo.com/events/the-future-of-nature-centers-a-m
 eigs-award-town-meeting
DTSTART:20151001T230000Z
DTEND:20151002T010000Z
CATEGORIES:environmental
LOCATION:Schuylkill Center for Environmental Education
WEBSITE:http://www.schuylkillcenter.org/
URL:http://www.schuylkillcenter.org/
CONTACT:215-482-7300, x110
ORGANIZER;CN="The Schuylkill Center":http://phillytodo.com/profile/Ann
 aLehrMueser
ATTACH;FMTTYPE="image/jpeg":
ATTENDEE;ROLE=REQ-PARTICIPANT;PARTSTAT=ACCEPTED;RSVP=TRUE;CN="The Schu
 ylkill Center":http://phillytodo.com/profile/AnnaLehrMueser
END:VEVENT
END:VCALENDAR
