BEGIN:VCALENDAR
PRODID:NingEventWidget-v1
VERSION:2.0
METHOD:PUBLISH
BEGIN:VEVENT
UID:4320450:Event:2528
DTSTAMP:20260425T142542Z
SUMMARY:The Evolving Face of Nursing
DESCRIPTION:Join us for the dedication of this innovative new mural by
  Meg Saligman that incorporates LED lighting to make the painted image
 s appear to change and animate. Dozens of local nursing agencies schoo
 ls and health care institutions supported this project. The mural feat
 ures portraits of over 80 actual nurses from the Philadelphia region. 
 Sponsored by the Independence Foundation, Bayada Nurses, Tasty Baking 
 Company, and dozens of generous partner organizations; visit www.mural
 arts.org for a complete list.\n\nFor more information visit http://phi
 llytodo.com/events/the-evolving-face-of-nursing
DTSTART:20101006T210000Z
DTEND:20101006T220000Z
CATEGORIES:mural, dedication
LOCATION:Broad & Vine Streets
WEBSITE:
URL:
CONTACT:215-685-0759
ORGANIZER;CN="Jenn McCreary":http://phillytodo.com/profile/JennMcCrear
 y
ATTACH;FMTTYPE="image/jpeg":http://storage.ning.com/topology/rest/1.0/
 file/get/3054950642?profile=original
ATTENDEE;ROLE=REQ-PARTICIPANT;PARTSTAT=ACCEPTED;RSVP=TRUE;CN="Jenn McC
 reary":http://phillytodo.com/profile/JennMcCreary
END:VEVENT
END:VCALENDAR
