BEGIN:VCALENDAR
PRODID:NingEventWidget-v1
VERSION:2.0
METHOD:PUBLISH
BEGIN:VEVENT
UID:4320450:Event:3964
DTSTAMP:20260425T124844Z
SUMMARY:The Eberle Wine Dinner
DESCRIPTION:The Eberle Wine Dinner\n\nFor more information visit http:
 //phillytodo.com/events/the-eberle-wine-dinner
DTSTART:20110216T233000Z
DTEND:20110217T040000Z
CATEGORIES:culinary, event
LOCATION:Davio's Philadelphia
WEBSITE:http://www.davios.com
URL:http://www.davios.com
CONTACT:215-563-4810
ORGANIZER;CN="Anny Deirmenjian":http://phillytodo.com/profile/AnnyDeir
 menjian
ATTACH;FMTTYPE="image/jpeg":http://storage.ning.com/topology/rest/1.0/
 file/get/3054951513?profile=original
ATTENDEE;ROLE=REQ-PARTICIPANT;PARTSTAT=ACCEPTED;RSVP=TRUE;CN="Anny Dei
 rmenjian":http://phillytodo.com/profile/AnnyDeirmenjian
END:VEVENT
END:VCALENDAR
