BEGIN:VCALENDAR
PRODID:NingEventWidget-v1
VERSION:2.0
METHOD:PUBLISH
BEGIN:VEVENT
UID:4320450:Event:1867
DTSTAMP:20260425T144256Z
SUMMARY:The Diamond G-String Awards presented by Delilah's
DESCRIPTION:On Wednesday, July 21, 2010 Delilah’s, The Nationally Ac
 claimed Gentlemen’s Club and Steakhouse, will present the 8th Annual
  Diamond G-String Award, the only competition of its kind, open to dan
 ce teams, feature performers, and individual entertainers throughout t
 he country brave enough to battle it out for $10,000. The evening begi
 ns at seven o’clock with a select open bar sponsored in part by Grey
  Goose, Nicholas Feuillatte Champagne and Yuengling Lager along with g
 ourmet hors d’oeuvres prepared by the award-winning Delilah’s culi
 nary team.\n\n\n\nTo host this highly anticipated event, Delilah’s i
 s proud to welcome award winning Comedian, Robert Shimmel. Recently na
 med one of Comedy Central's 100 Greatest Stand-ups of All Time, Robert
  is best known for his comedy albums, which include Robert Schimmel Co
 mes Clean; If You Buy This CD, I Can Get This Car; Unprotected; and Re
 serection, along with his appearances on HBO and The Howard Stern Show
 .\n\n\n\nDeciding the outcome will be a panel of celebrity judges incl
 uding: Playmate Megan Heaton, Blogger Arthur Kade, Greater Philadelphi
 a Tourism & Marketing Corporation’s Sabrina Tambrino-Thorne, Preside
 nt and Founder of Matrix Fights Jimmy Binns, Red Bull’s Heather Boli
 ng, Nightlife Guru Brian Taylor and Jessica Scott of Jessica Scott LLC
 .\n\n\n\nAdd to reserve a table for bottle service conact buffy@delila
 hs.com 215-625-2800x101\n\n\n\nDress to Impress\n\nAfter Party at Zee 
 Bar\n\nFor more information visit http://phillytodo.com/events/the-dia
 mond-gstring-awards
DTSTART:20100721T230000Z
DTEND:20100722T060000Z
CATEGORIES:awards, party
LOCATION:Delilah's Gentlemen's Club & Steakhouse
WEBSITE:http://www.delilahs.com
URL:http://www.delilahs.com
CONTACT:215-625-2800 x101
ORGANIZER;CN="Delilah's":http://phillytodo.com/profile/Delilahs
ATTACH;FMTTYPE="image/jpeg":http://storage.ning.com/topology/rest/1.0/
 file/get/3054950020?profile=original
ATTENDEE;ROLE=REQ-PARTICIPANT;PARTSTAT=ACCEPTED;RSVP=TRUE;CN="Delilah'
 s":http://phillytodo.com/profile/Delilahs
END:VEVENT
END:VCALENDAR
