BEGIN:VCALENDAR
PRODID:NingEventWidget-v1
VERSION:2.0
METHOD:PUBLISH
BEGIN:VEVENT
UID:4320450:Event:28511
DTSTAMP:20260425T160045Z
SUMMARY:The Devil's Crawl
DESCRIPTION:That time of the year has come again - over 1,000 people a
 re expected to attend this super-fun Halloween event! Be sure to come 
 out with your family, friends, and co-workers for The Devil's Crawl in
  Northern Liberties on Wednesday, October 31st 2012.  $10 (you can pa
 y in advance or at the event) and a food item or lightly used/new coat
 /jacket gets you Devil's Horns and great drink specials while you craw
 l from bar to bar for the Season's Favorite Bar Crawl to Support Chari
 ty: Feel The Warmth\n \nDRINK SPECIALS include $3 beer, $4 bottles, a
 nd $4 select mixed drinks & shots! Hang out with hundreds of new and o
 ld friends. Get there early, STAY LATE.  Devil's Crawl Locations incl
 ude:  King's Oak, Boardwalk Bar, Gunner's Run, El Camino Real, and PY
 T (plus more stops to come!)\n\nFor more information visit http://phil
 lytodo.com/events/the-devil-s-crawl
DTSTART:20121031T210000Z
DTEND:20121101T040000Z
CATEGORIES:halloween, party
LOCATION:Northern Liberties
WEBSITE:http://www.upcomingevents.com/philadelphia/halloween/devils-cr
 awl/ptodo
URL:http://www.upcomingevents.com/philadelphia/halloween/devils-crawl/
 ptodo
CONTACT:
ORGANIZER;CN="UpcomingEvents.com":http://phillytodo.com/profile/Upcomi
 ngEventscom
ATTACH;FMTTYPE="image/jpeg":http://storage.ning.com/topology/rest/1.0/
 file/get/3054959001?profile=original
ATTENDEE;ROLE=REQ-PARTICIPANT;PARTSTAT=ACCEPTED;RSVP=TRUE;CN="Upcoming
 Events.com":http://phillytodo.com/profile/UpcomingEventscom
END:VEVENT
END:VCALENDAR
