BEGIN:VCALENDAR
PRODID:NingEventWidget-v1
VERSION:2.0
METHOD:PUBLISH
BEGIN:VEVENT
UID:4320450:Event:38965
DTSTAMP:20260425T142755Z
SUMMARY:The Craicdown Under Cover: Concert Benefit
DESCRIPTION:Inis Nua Theatre Company presents their annual benefit Cra
 icdown Under Cover this Friday, November 21, 2014, at World Cafe Live!
  (3025 Walnut Street), from 7:00pm to 10:00pm. In honor of Ciphers, In
 is Nua's successful fall production, this year's concert benefit featu
 res a \"spy\" theme, with performers doing their versions of the James
  Bond movie theme songs. Musicians and theatre artists appearing inclu
 de Mal Whyte, TJ Kong from TJ Kong & the Atomic Bomb, as well as the m
 ighty West Philadelphia Orchestra (putting some Balkan swing on James 
 Bond). Tickets are $25 in advance at inisnuatheatre.ticketleap.com a
 nd $30 at the door. Help “craic” the code to support future works 
 by Inis Nua.\n\nFor more information visit http://phillytodo.com/event
 s/the-craicdown-under-cover-concert-benefit
DTSTART:20141122T000000Z
DTEND:20141122T030000Z
CATEGORIES:concert, benefit
LOCATION:World Cafe Live
WEBSITE:http://www.philly.worldcafelive.com
URL:http://www.philly.worldcafelive.com
CONTACT:(215) 222-1400
ORGANIZER:Inis Nua Theatre
ATTACH;FMTTYPE="image/jpeg":http://storage.ning.com/topology/rest/1.0/
 file/get/3054982290?profile=original
ATTENDEE;ROLE=REQ-PARTICIPANT;PARTSTAT=ACCEPTED;RSVP=TRUE;CN="Aversa P
 R & Events":http://phillytodo.com/profile/KoryAversa277
END:VEVENT
END:VCALENDAR
