BEGIN:VCALENDAR
PRODID:NingEventWidget-v1
VERSION:2.0
METHOD:PUBLISH
BEGIN:VEVENT
UID:4320450:Event:59608
DTSTAMP:20260425T123538Z
SUMMARY:The Craftery Market
DESCRIPTION:The Craftery Market is a modern and unique market with 50 
 + vendors, featuring carefully curated, artisan handmade items, antiqu
 e and vintage finds, fresh flowers, original art and more!\nWhile you 
 shop, enjoy delicious eats and live music!\n\nFor more information vis
 it http://phillytodo.com/events/the-craftery-market
DTSTART:20191109T160000Z
DTEND:20191109T210000Z
CATEGORIES:community, festival
LOCATION:Main Street, Manayunk
WEBSITE:
URL:
CONTACT:2154829565
ORGANIZER;CN="Manayunk Development Corporation":http://phillytodo.com/
 profile/ManayunkDevelopmentCorporation
ATTACH;FMTTYPE="image/jpeg":
ATTENDEE;ROLE=REQ-PARTICIPANT;PARTSTAT=ACCEPTED;RSVP=TRUE;CN="Manayunk
  Development Corporation":http://phillytodo.com/profile/ManayunkDevelo
 pmentCorporation
END:VEVENT
END:VCALENDAR
