BEGIN:VCALENDAR
PRODID:NingEventWidget-v1
VERSION:2.0
METHOD:PUBLISH
BEGIN:VEVENT
UID:4320450:Event:56908
DTSTAMP:20260425T125918Z
SUMMARY:The Clay Studio: Valentine's Date Nights
DESCRIPTION:Grab your loved one and get ready for the hottest date nig
 ht ever! Join us at The Clay Studio and enjoy chocolaty treats, champa
 gne, wine and mood music while you celebrate Valentine’s Day in a wa
 y you’ll never forget! Bring a change of clothes to get into that yo
 u don’t mind getting dirty. Preregistration is required; the fee cov
 ers one individual (the cost per couple is $125.00 or $135.00).\n\nFor
  more information visit http://phillytodo.com/events/the-clay-studio-v
 alentine-s-date-nights
DTSTART:20190210T000000Z
DTEND:20190216T020000Z
CATEGORIES:date, night
LOCATION:Clay Studio
WEBSITE:https://public.theclaystudio.org/public/valentines/4
URL:https://public.theclaystudio.org/public/valentines/4
CONTACT:215-925-3453
ORGANIZER;CN="Bryan Chan":http://phillytodo.com/profile/BryanChan
ATTACH;FMTTYPE="image/jpeg":https://storage.ning.com/topology/rest/1.0
 /file/get/757277858?profile=original
ATTENDEE;ROLE=REQ-PARTICIPANT;PARTSTAT=ACCEPTED;RSVP=TRUE;CN="Bryan Ch
 an":http://phillytodo.com/profile/BryanChan
END:VEVENT
END:VCALENDAR
