BEGIN:VCALENDAR
PRODID:NingEventWidget-v1
VERSION:2.0
METHOD:PUBLISH
BEGIN:VEVENT
UID:4320450:Event:169207
DTSTAMP:20260425T141742Z
SUMMARY:The Clay Studio’s Lunch and Learn: Roberto Lugo from Univers
 ity of Pennsylvania
DESCRIPTION:Join Jennifer Zwilling, Curator of Artistic Programs at Th
 e Clay Studio, along with ceramicist, social activist, and educator Ro
 berto Lugo, as they discuss his exhibition, “God Complex: Different 
 Philadelphia,” on view at the Arthur Ross Gallery at Penn. Lugo’s 
 work utilizes classical pottery forms in conjunction with portraiture
  and surface design reminiscent of his North Philadelphia upbringing a
 nd Hip-Hop culture to highlight themes of poverty, inequality, and rac
 ial injustice. This program is co-sponsored by The Clay Studio and the
  University of Pennsylvania's Arthur Ross Gallery. Join the Zoom call 
 to ask any questions and to listen in on the discussion!\n\nFor more i
 nformation visit http://phillytodo.com/events/the-clay-studio-s-lunch-
 and-learn-roberto-lugo-from-university-of
DTSTART:20211014T213000Z
DTEND:20211014T230000Z
CATEGORIES:zoom, discussion
LOCATION:https://upenn.zoom.us/webinar/register/WN_sxO_KJbvS2a8_tLWGlC
 Uvw
WEBSITE:https://upenn.zoom.us/webinar/register/WN_sxO_KJbvS2a8_tLWGlCU
 vw
URL:https://upenn.zoom.us/webinar/register/WN_sxO_KJbvS2a8_tLWGlCUvw
CONTACT:215-925-3453
ORGANIZER:The Clay Studio and The University of Pennsylvania
ATTACH;FMTTYPE="image/jpeg":https://storage.ning.com/topology/rest/1.0
 /file/get/9648218684?profile=original
ATTENDEE;ROLE=REQ-PARTICIPANT;PARTSTAT=ACCEPTED;RSVP=TRUE;CN="Bryan Ch
 an":http://phillytodo.com/profile/BryanChan
END:VEVENT
END:VCALENDAR
