BEGIN:VCALENDAR
PRODID:NingEventWidget-v1
VERSION:2.0
METHOD:PUBLISH
BEGIN:VEVENT
UID:4320450:Event:61304
DTSTAMP:20260425T123707Z
SUMMARY:The Clay Studio’s Lunch and Learn: Returning Resident Artist
 s
DESCRIPTION:Join Jennifer Zwilling, Curator of Artistic Programs at Th
 e Clay Studio, for a Lunch & Learn on Thursday, October 15. Jennifer w
 ill be joined by former Resident Artists of The Clay Studio; Nick Lenk
 er, Jacob Raeder, Stephanie Kantor, Alex Ferrante, and Nate Willever. 
 These artists will each give short presentations and discuss where the
 y find their inspiration and share new work that they’ve created dur
 ing their time at The Clay Studio. Join the Zoom call to listen in to 
 the discussion, and ask a question live!\n\nFor more information visit
  http://phillytodo.com/events/the-clay-studio-s-lunch-and-learn-return
 ing-resident-artists
DTSTART:20201015T160000Z
DTEND:20201015T170000Z
CATEGORIES:"lunch &amp; learn"
LOCATION:Zoom
WEBSITE:https://www.theclaystudio.org/lunch-and-learn
URL:https://www.theclaystudio.org/lunch-and-learn
CONTACT:(215) 925-3453 x 23
ORGANIZER;CN="Bryan Chan":http://phillytodo.com/profile/BryanChan
ATTACH;FMTTYPE="image/jpeg":https://storage.ning.com/topology/rest/1.0
 /file/get/7941160483?profile=original
ATTENDEE;ROLE=REQ-PARTICIPANT;PARTSTAT=ACCEPTED;RSVP=TRUE;CN="Bryan Ch
 an":http://phillytodo.com/profile/BryanChan
END:VEVENT
END:VCALENDAR
