BEGIN:VCALENDAR
PRODID:NingEventWidget-v1
VERSION:2.0
METHOD:PUBLISH
BEGIN:VEVENT
UID:4320450:Event:60818
DTSTAMP:20260425T130827Z
SUMMARY:The Clay Studio’s Lunch and Learn: 100 Years 100 Women
DESCRIPTION:Join Jennifer Zwilling, Curator of Artistic Programs at Th
 e Clay Studio, for a Lunch and Learn on Thursday, August 20 to celebra
 te the opening of “100 Years 100 Women,” an exhibition on display 
 at The Clay Studio. \"100 Years 100 Women\" is an exhibition consistin
 g of 100 commemorative plates, honoring heroic and inspiring women, fr
 om 50 different artists. The exhibition celebrates the 100th anniversa
 ry of the ratification of the 19th Amendment, giving women in the Unit
 ed States the right to vote, while acknowledging the work that remains
  in the pursuit of equal rights for all women. Join the Zoom call to h
 ear from the artists, and ask a question, live!\n\nFor more informatio
 n visit http://phillytodo.com/events/the-clay-studio-s-lunch-and-learn
 -100-years-100-women
DTSTART:20200820T160000Z
DTEND:20200820T170000Z
CATEGORIES:lunch, and, learn
LOCATION:Zoom
WEBSITE:https://www.theclaystudio.org/lunch-and-learn
URL:https://www.theclaystudio.org/lunch-and-learn
CONTACT:(215) 925-3453
ORGANIZER;CN="Bryan Chan":http://phillytodo.com/profile/BryanChan
ATTACH;FMTTYPE="image/jpeg":https://storage.ning.com/topology/rest/1.0
 /file/get/7431767072?profile=original
ATTENDEE;ROLE=REQ-PARTICIPANT;PARTSTAT=ACCEPTED;RSVP=TRUE;CN="Bryan Ch
 an":http://phillytodo.com/profile/BryanChan
END:VEVENT
END:VCALENDAR
