BEGIN:VCALENDAR
PRODID:NingEventWidget-v1
VERSION:2.0
METHOD:PUBLISH
BEGIN:VEVENT
UID:4320450:Event:60718
DTSTAMP:20260425T162945Z
SUMMARY:The Clay Studio’s Lunch and Learn: “100 Years 100 Women”
  Wiki-Thon
DESCRIPTION:Join Jennifer Zwilling, Curator of Artistic Programs at Th
 e Clay Studio, for a Lunch and Learn on Thursday, August 27 to discuss
  100 Years 100 Women, an exhibition currently on display at The Clay S
 tudio. While the exhibition celebrates the 100th anniversary of the ra
 tification of the 19th Amendment, the pursuit of equal rights for all 
 women still continues. The focus of the Lunch and Learn will be to shi
 ne a light on women who have been overlooked or underappreciated throu
 ghout history and are missing from Wikipedia. This is your chance to t
 alk about a woman in your life, a woman you admire, or a woman who you
  feel has made an impact in the world. The Clay Studio will host a tut
 orial on how to help add these women to Wikipedia and get them the rec
 ognition they deserve.\n\nFor more information visit http://phillytodo
 .com/events/the-clay-studio-s-lunch-and-learn-100-years-100-women-wiki
 -thon
DTSTART:20200827T160000Z
DTEND:20200827T170000Z
CATEGORIES:lunch, and, learn
LOCATION:Zoom
WEBSITE:https://www.theclaystudio.org/lunch-and-learn
URL:https://www.theclaystudio.org/lunch-and-learn
CONTACT:(215) 925-3453
ORGANIZER;CN="Bryan Chan":http://phillytodo.com/profile/BryanChan
ATTACH;FMTTYPE="image/jpeg":https://storage.ning.com/topology/rest/1.0
 /file/get/7528497091?profile=original
ATTENDEE;ROLE=REQ-PARTICIPANT;PARTSTAT=ACCEPTED;RSVP=TRUE;CN="Bryan Ch
 an":http://phillytodo.com/profile/BryanChan
END:VEVENT
END:VCALENDAR
