BEGIN:VCALENDAR
PRODID:NingEventWidget-v1
VERSION:2.0
METHOD:PUBLISH
BEGIN:VEVENT
UID:4320450:Event:170227
DTSTAMP:20260425T112836Z
SUMMARY:The Clay Studio’s Lunch &amp; Learn with Masa Sasaki
DESCRIPTION:Join Jennifer Zwilling, Curator of Artistic Programs at Th
 e Clay Studio, as she chats with functional ceramicist, Masa Sasaki, o
 n his inspirations and techniques when sculpting his art. Masayuki Sas
 aki is a classically trained artist with multi-facetted interests. He 
 is an accomplished pianist, award-winning painter and uniquely stylist
 ic potter. Since moving from his native Japan in the late 1980's, he h
 as impressed teachers, patrons, and his fellow artists with his unique
  sense of precision and artistic vision. Tune in to the Zoom call to l
 isten in on the discussion and ask any questions.\n\nFor more informat
 ion visit http://phillytodo.com/events/the-clay-studio-s-lunch-amp-lea
 rn-with-masa-sasaki
DTSTART:20220217T170000Z
DTEND:20220217T180000Z
CATEGORIES:lunch, and, learn, with, the, clay, studio
LOCATION:https://temple.zoom.us/j/96975230574
WEBSITE:https://www.theclaystudio.org/lunch-and-learn
URL:https://www.theclaystudio.org/lunch-and-learn
CONTACT:
ORGANIZER:The Clay Studio
ATTACH;FMTTYPE="image/jpeg":https://storage.ning.com/topology/rest/1.0
 /file/get/10063167288?profile=original
ATTENDEE;ROLE=REQ-PARTICIPANT;PARTSTAT=ACCEPTED;RSVP=TRUE;CN="Bryan Ch
 an":http://phillytodo.com/profile/BryanChan
END:VEVENT
END:VCALENDAR
