BEGIN:VCALENDAR
PRODID:NingEventWidget-v1
VERSION:2.0
METHOD:PUBLISH
BEGIN:VEVENT
UID:4320450:Event:170432
DTSTAMP:20260425T173726Z
SUMMARY:The Clay Studio’s Lunch &amp; Learn with Jeremiah Ibarra
DESCRIPTION:Tune into this Lunch & Learn where Jennifer Zwilling, Cura
 tor of Artistic Programs at The Clay Studio, will be discussing Jeremi
 ah Ibarra’s humorous pottery. Jeremiah Ibarra is a native of San Ang
 elo Texas, but currently resides in Southern Louisiana. He received hi
 s MFA from Texas A&M University - Corpus Christi. Jeremiah has done re
 sidencies at the Chautauqua School of Art, New Harmony Clay Project an
 d 100 West Corsicana. He’s presently adjuncting 3-D courses at the U
 niversity of New Orleans. Join the Zoom call to listen in on the discu
 ssion and ask any questions.\n\nFor more information visit http://phil
 lytodo.com/events/the-clay-studio-s-lunch-amp-learn-with-jeremiah-ibar
 ra
DTSTART:20220224T170000Z
DTEND:20220224T180000Z
CATEGORIES:lunch, and, learn, with, the, clay, studio
LOCATION:https://temple.zoom.us/j/98638187695
WEBSITE:https://www.theclaystudio.org/lunch-and-learn
URL:https://www.theclaystudio.org/lunch-and-learn
CONTACT:
ORGANIZER:The Clay Studio
ATTACH;FMTTYPE="image/jpeg":https://storage.ning.com/topology/rest/1.0
 /file/get/10063168089?profile=original
ATTENDEE;ROLE=REQ-PARTICIPANT;PARTSTAT=ACCEPTED;RSVP=TRUE;CN="Bryan Ch
 an":http://phillytodo.com/profile/BryanChan
END:VEVENT
END:VCALENDAR
