BEGIN:VCALENDAR
PRODID:NingEventWidget-v1
VERSION:2.0
METHOD:PUBLISH
BEGIN:VEVENT
UID:4320450:Event:60606
DTSTAMP:20260425T141521Z
SUMMARY:The Clay Studio’s Lunch &amp; Learn: “The Clay Studio Nati
 onal” Gallery Tour
DESCRIPTION:Join Jennifer Zwilling, Curator of Artistic Programs at Th
 e Clay Studio, for a Lunch & Learn on Thursday, July 23. Jennifer will
  lead a virtual tour of “The Clay Studio National 2020” exhibition
  at The Clay Studio. \"The Clay Studio National\" features the work of
  over 70 artists and explores the wide range of ceramic art being crea
 ted in today’s world. During the Lunch & Learn you will have the opp
 ortunity to view pieces on display at The Clay Studio, shop the exhibi
 tion, and ask Jennifer questions about the exhibit!\n\nFor more inform
 ation visit http://phillytodo.com/events/the-clay-studio-s-lunch-amp-l
 earn-the-clay-studio-national
DTSTART:20200723T160000Z
DTEND:20200723T170000Z
CATEGORIES:lunch, "&amp", learn
LOCATION:Zoom
WEBSITE:https://www.theclaystudio.org/lunch-and-learn
URL:https://www.theclaystudio.org/lunch-and-learn
CONTACT:(215) 925-3453 x 23
ORGANIZER;CN="Bryan Chan":http://phillytodo.com/profile/BryanChan
ATTACH;FMTTYPE="image/jpeg":https://storage.ning.com/topology/rest/1.0
 /file/get/6930132698?profile=original
ATTENDEE;ROLE=REQ-PARTICIPANT;PARTSTAT=ACCEPTED;RSVP=TRUE;CN="Bryan Ch
 an":http://phillytodo.com/profile/BryanChan
END:VEVENT
END:VCALENDAR
