BEGIN:VCALENDAR
PRODID:NingEventWidget-v1
VERSION:2.0
METHOD:PUBLISH
BEGIN:VEVENT
UID:4320450:Event:60809
DTSTAMP:20260425T125316Z
SUMMARY:The Clay Studio’s Lunch &amp; Learn: The Clay Studio Nationa
 l Gallery Tour, Part 2
DESCRIPTION:Join Jennifer Zwilling, Curator of Artistic Programs at Th
 e Clay Studio, for a Lunch and Learn on Thursday, July 30. Jennifer wi
 ll lead a virtual tour of “The Clay Studio National” exhibition at
  The Clay Studio. She will be joined by some of the artists featured i
 n the exhibition, including Dasha Kalisz, Trisha Kyner, Leroy Johnson,
  Raymond Rorke, and more! \"The Clay Studio National\" is a biannual e
 xhibition that showcases the wide range of ceramic art being made in t
 he United States. Join the Zoom call to view pieces on display, and as
 k a question, live!\n\nFor more information visit http://phillytodo.co
 m/events/the-clay-studio-s-lunch-amp-learn-the-clay-studio-national-1
DTSTART:20200730T160000Z
DTEND:20200730T170000Z
CATEGORIES:lunch, "&amp", learn
LOCATION:Zoom
WEBSITE:https://www.theclaystudio.org/lunch-and-learn
URL:https://www.theclaystudio.org/lunch-and-learn
CONTACT:(215) 925-3453 x 23
ORGANIZER;CN="Bryan Chan":http://phillytodo.com/profile/BryanChan
ATTACH;FMTTYPE="image/jpeg":https://storage.ning.com/topology/rest/1.0
 /file/get/6930132698?profile=original
ATTENDEE;ROLE=REQ-PARTICIPANT;PARTSTAT=ACCEPTED;RSVP=TRUE;CN="Bryan Ch
 an":http://phillytodo.com/profile/BryanChan
END:VEVENT
END:VCALENDAR
