BEGIN:VCALENDAR
PRODID:NingEventWidget-v1
VERSION:2.0
METHOD:PUBLISH
BEGIN:VEVENT
UID:4320450:Event:167894
DTSTAMP:20260425T113036Z
SUMMARY:The Clay Studio’s Lunch &amp; Learn: Small Favors Finale
DESCRIPTION:Join Jennifer Zwilling, Curator of Artistic Programs at Th
 e Clay Studio, and several of the artists featured in the much-anticip
 ated annual exhibition, “Small Favors.” Small Favors is currently 
 on display at The Clay Studio, and consists of 300 works of art displa
 yed in 4-inch cubes. The artists and Jennifer will discuss the challen
 ge and joy of working on a smaller scale. Join the Zoom call to ask qu
 estions live and listen to the discussion!\n\nFor more information vis
 it http://phillytodo.com/events/the-clay-studio-s-lunch-amp-learn-smal
 l-favors-finale
DTSTART:20210422T160000Z
DTEND:20210422T180000Z
CATEGORIES:virtual, discussion
LOCATION:Zoom (Virtual Event)
WEBSITE:https://www.theclaystudio.org/lunch-and-learn
URL:https://www.theclaystudio.org/lunch-and-learn
CONTACT:(215) 925-3453 x 23
ORGANIZER:Josie Bockelman
ATTACH;FMTTYPE="image/jpeg":https://storage.ning.com/topology/rest/1.0
 /file/get/8714677054?profile=original
ATTENDEE;ROLE=REQ-PARTICIPANT;PARTSTAT=ACCEPTED;RSVP=TRUE;CN="Bryan Ch
 an":http://phillytodo.com/profile/BryanChan
END:VEVENT
END:VCALENDAR
