BEGIN:VCALENDAR
PRODID:NingEventWidget-v1
VERSION:2.0
METHOD:PUBLISH
BEGIN:VEVENT
UID:4320450:Event:60334
DTSTAMP:20260425T130618Z
SUMMARY:The Clay Studio’s Lunch &amp; Learn: Sara Parent Ramos
DESCRIPTION:Join artist Sara Parent Ramos, creator of Praya Dubia, a s
 ite-specific installation exhibited in the gallery of The Clay Studio,
  and Jennifer Zwilling, Curator of Artistic Programs at The Clay Studi
 o, for a Lunch and Learn on Thursday, May 28. Hosted by The Clay Studi
 o, the pair will discuss Praya Dubia, which investigates the microbiom
 e: the wonderful and elusive world thriving inside and outside us. The
 y will also talk about Ramos’ inspiration and process, while taking 
 questions from the audience! \n\nThe event will be held over Zoom. Us
 e this link to join: https://temple.zoom.us/j/98289919223 (Meeting ID
 : 9828 991 9223) \n\nFor more information visit http://phillytodo.com
 /events/the-clay-studio-s-lunch-amp-learn-sara-parent-ramos
DTSTART:20200528T160000Z
DTEND:20200528T170000Z
CATEGORIES:lunch, "&amp", learn
LOCATION:Zoom
WEBSITE:https://www.theclaystudio.org/lunch-and-learn
URL:https://www.theclaystudio.org/lunch-and-learn
CONTACT:(215) 925-3453 x 23
ORGANIZER;CN="Bryan Chan":http://phillytodo.com/profile/BryanChan
ATTACH;FMTTYPE="image/jpeg":https://storage.ning.com/topology/rest/1.0
 /file/get/5421601668?profile=original
ATTENDEE;ROLE=REQ-PARTICIPANT;PARTSTAT=ACCEPTED;RSVP=TRUE;CN="Bryan Ch
 an":http://phillytodo.com/profile/BryanChan
END:VEVENT
END:VCALENDAR
