BEGIN:VCALENDAR
PRODID:NingEventWidget-v1
VERSION:2.0
METHOD:PUBLISH
BEGIN:VEVENT
UID:4320450:Event:168047
DTSTAMP:20260425T141300Z
SUMMARY:The Clay Studio’s Lunch &amp; Learn: Ryan Kelly
DESCRIPTION:Join Jennifer Zwilling, Curator of Artistic Programs at Th
 e Clay Studio, along with artist Ryan Kelly, as they discuss “Anxiou
 s Assembly,” his new exhibition at The Clay Studio, which opens Apri
 l 3. The facial expressions depicted in this series of ceramic busts a
 nd jugs convey a sense of anxiety, capturing the sense of uncertainty,
  fear, and discomfort many of us have experienced over the last year. 
 Join the Zoom call to ask questions live and listen to the discussion!
 \n\nFor more information visit http://phillytodo.com/events/the-clay-s
 tudio-s-lunch-amp-learn-ryan-kelly
DTSTART:20210401T160000Z
DTEND:20210401T180000Z
CATEGORIES:virtual, discussion
LOCATION:Zoom (Virtual Event)
WEBSITE:https://temple.zoom.us/j/97473521095
URL:https://temple.zoom.us/j/97473521095
CONTACT:(215) 925-3453 x 23
ORGANIZER:Josie Bockelman
ATTACH;FMTTYPE="image/jpeg":https://storage.ning.com/topology/rest/1.0
 /file/get/8714601483?profile=original
ATTENDEE;ROLE=REQ-PARTICIPANT;PARTSTAT=ACCEPTED;RSVP=TRUE;CN="Bryan Ch
 an":http://phillytodo.com/profile/BryanChan
END:VEVENT
END:VCALENDAR
