BEGIN:VCALENDAR
PRODID:NingEventWidget-v1
VERSION:2.0
METHOD:PUBLISH
BEGIN:VEVENT
UID:4320450:Event:61296
DTSTAMP:20260425T130716Z
SUMMARY:The Clay Studio’s Lunch and Learn: Meet George Rodriguez
DESCRIPTION:Join Jennifer Zwilling, Curator of Artistic Programs at Th
 e Clay Studio, for a Lunch & Learn on Thursday, October 8. Jennifer wi
 ll be joined by George Rodriguez, Resident Artist at the Tyler School 
 of Art, to discuss “La Flor, El Nicho, y sus Memorias”, his exhibi
 tion currently on display at The Clay Studio. For this exhibition, Rod
 riguez has transformed The Clay Studio gallery into a reflection and m
 editation area to celebrate Dia de las Muertas, the Day of the Dead, t
 o honor the Aztec God of Death, Mictecacihuatl. Join the Zoom call to 
 learn how you can make an offering to Mictecacihuatl, which will be us
 ed in the closing ceremony taking place at The Clay Studio on the Day 
 of the Dead, November 1.\n\nFor more information visit http://phillyto
 do.com/events/the-clay-studio-s-lunch-amp-learn-meet-george-rodriguez
DTSTART:20201008T160000Z
DTEND:20201008T170000Z
CATEGORIES:"lunch and learn"
LOCATION:Zoom
WEBSITE:https://www.theclaystudio.org/lunch-and-learn
URL:https://www.theclaystudio.org/lunch-and-learn
CONTACT:(215) 925-3453 x 23
ORGANIZER;CN="Bryan Chan":http://phillytodo.com/profile/BryanChan
ATTACH;FMTTYPE="image/jpeg":https://storage.ning.com/topology/rest/1.0
 /file/get/7941159497?profile=original
ATTENDEE;ROLE=REQ-PARTICIPANT;PARTSTAT=ACCEPTED;RSVP=TRUE;CN="Bryan Ch
 an":http://phillytodo.com/profile/BryanChan
END:VEVENT
END:VCALENDAR
