BEGIN:VCALENDAR
PRODID:NingEventWidget-v1
VERSION:2.0
METHOD:PUBLISH
BEGIN:VEVENT
UID:4320450:Event:155143
DTSTAMP:20260425T161358Z
SUMMARY:The Clay Studio’s Lunch &amp; Learn: Lauren Mabry &amp; Lesl
 ie Ferrin
DESCRIPTION:Join Jennifer Zwilling, Curator of Artistic Programs at Th
 e Clay Studio, along with Lauren Mabry and Leslie Ferrin, Instructors 
 at The Clay Studio, as they discuss the importance of mentorship among
  women of different generations in the art world. In an industry that 
 is often difficult to navigate, especially alone, these relationships 
 nurture confidence and establish positive foundational support for wom
 en in the arts. Join the Zoom call to ask questions live and listen to
  the discussion!\n\nFor more information visit http://phillytodo.com/e
 vents/the-clay-studio-s-lunch-amp-learn-lauren-mabry-amp-leslie-ferrin
DTSTART:20210225T170000Z
DTEND:20210225T190000Z
CATEGORIES:virtual, discussion
LOCATION:Zoom (Virtual Event)
WEBSITE:https://temple.zoom.us/j/99592945087
URL:https://temple.zoom.us/j/99592945087
CONTACT:(215) 925-3453 x 23
ORGANIZER:Josie Bockelman
ATTACH;FMTTYPE="image/jpeg":https://storage.ning.com/topology/rest/1.0
 /file/get/8546914876?profile=original
ATTENDEE;ROLE=REQ-PARTICIPANT;PARTSTAT=ACCEPTED;RSVP=TRUE;CN="Bryan Ch
 an":http://phillytodo.com/profile/BryanChan
END:VEVENT
END:VCALENDAR
