BEGIN:VCALENDAR
PRODID:NingEventWidget-v1
VERSION:2.0
METHOD:PUBLISH
BEGIN:VEVENT
UID:4320450:Event:155152
DTSTAMP:20260425T141430Z
SUMMARY:The Clay Studio’s Lunch &amp; Learn: Kevin Snipes
DESCRIPTION:Join Jennifer Zwilling, Curator of Artistic Programs at Th
 e Clay Studio, and Resident Artist Kevin Snipes, whose solo exhibition
  “Is / Is Not,” is now on display at The Clay Studio’s Bonovitz 
 Gallery. His exhibition is a new body of work, featuring plate forms d
 epicting human faces. Jennifer and Kevin will discuss his time at the 
 Clay Studio, the larger artistic community in Philadelphia as a whole,
  and the inspiration for his installation. Join the Zoom call to ask q
 uestions live and listen to the discussion!\n\nFor more information vi
 sit http://phillytodo.com/events/the-clay-studio-s-lunch-amp-learn-kev
 in-snipes
DTSTART:20210318T160000Z
DTEND:20210318T180000Z
CATEGORIES:virtual, discussion
LOCATION:Zoom (Virtual Event)
WEBSITE:https://temple.zoom.us/j/94070354302
URL:https://temple.zoom.us/j/94070354302
CONTACT:(215) 925-3453 x 23
ORGANIZER:Josie Bockelman
ATTACH;FMTTYPE="image/jpeg":https://storage.ning.com/topology/rest/1.0
 /file/get/8547053669?profile=original
ATTENDEE;ROLE=REQ-PARTICIPANT;PARTSTAT=ACCEPTED;RSVP=TRUE;CN="Bryan Ch
 an":http://phillytodo.com/profile/BryanChan
END:VEVENT
END:VCALENDAR
