BEGIN:VCALENDAR
PRODID:NingEventWidget-v1
VERSION:2.0
METHOD:PUBLISH
BEGIN:VEVENT
UID:4320450:Event:167957
DTSTAMP:20260425T155324Z
SUMMARY:The Clay Studio’s Lunch &amp; Learn: Joanna Powell
DESCRIPTION:Join Jennifer Zwilling, Curator of Artistic Programs at Th
 e Clay Studio, along with artist Joanna Powell, as they discuss “She
  Ain't Pretty That Way,” her new exhibition at The Clay Studio, whic
 h opens May 1. The exhibition features work made during the pandemic l
 ockdown that memorializes Powell's mother. Join the Zoom call to ask q
 uestions live and listen to the discussion!\n\nFor more information vi
 sit http://phillytodo.com/events/the-clay-studio-s-lunch-amp-learn-joa
 nna-powell
DTSTART:20210429T160000Z
DTEND:20210429T180000Z
CATEGORIES:virtual, discussion
LOCATION:Zoom (Virtual Event)
WEBSITE:https://temple.zoom.us/j/95188917781
URL:https://temple.zoom.us/j/95188917781
CONTACT:(215) 925-3453 x 23
ORGANIZER:Josie Bockelman
ATTACH;FMTTYPE="image/jpeg":https://storage.ning.com/topology/rest/1.0
 /file/get/8714604276?profile=original
ATTENDEE;ROLE=REQ-PARTICIPANT;PARTSTAT=ACCEPTED;RSVP=TRUE;CN="Bryan Ch
 an":http://phillytodo.com/profile/BryanChan
END:VEVENT
END:VCALENDAR
