BEGIN:VCALENDAR
PRODID:NingEventWidget-v1
VERSION:2.0
METHOD:PUBLISH
BEGIN:VEVENT
UID:4320450:Event:144366
DTSTAMP:20260425T131037Z
SUMMARY:The Clay Studio’s Lunch &amp; Learn: Guest Artist Adebunmi G
 badebo
DESCRIPTION:Join Jennifer Zwilling, Curator of Artistic Programs at Th
 e Clay Studio, and Adebunmi Gbadebo, a guest artist at The Clay Studio
 , as they discuss Gbadebo’s recent work. Gbadebo’s art is known fo
 r the rejection of traditional art materials, using more natural and e
 xperimental substances to create. Learn about her special project at T
 he Clay Studio, which explores the use of soil from the land where her
  ancestors lived, in South Carolina, to create ceramic forms. Join the
  Zoom call to listen to the discussion!\n\nFor more information visit 
 http://phillytodo.com/events/the-clay-studio-s-lunch-amp-learn-guest-a
 rtist-adebunmi-gbadebo
DTSTART:20210218T170000Z
DTEND:20210218T190000Z
CATEGORIES:virtual, discussion
LOCATION:Zoom (Virtual Event)
WEBSITE:https://temple.zoom.us/j/98324177522
URL:https://temple.zoom.us/j/98324177522
CONTACT:(215) 925-3453 x 23
ORGANIZER:Josie Bockelman
ATTACH;FMTTYPE="image/jpeg":https://storage.ning.com/topology/rest/1.0
 /file/get/8490614468?profile=original
ATTENDEE;ROLE=REQ-PARTICIPANT;PARTSTAT=ACCEPTED;RSVP=TRUE;CN="Bryan Ch
 an":http://phillytodo.com/profile/BryanChan
END:VEVENT
END:VCALENDAR
