BEGIN:VCALENDAR
PRODID:NingEventWidget-v1
VERSION:2.0
METHOD:PUBLISH
BEGIN:VEVENT
UID:4320450:Event:60602
DTSTAMP:20260425T141439Z
SUMMARY:The Clay Studio’s Lunch &amp; Learn: Fury Design
DESCRIPTION:Join Eric Rymshaw and Jim Fulton of Fury Design, and Jenni
 fer Zwilling, Curator of Artistic Programs at The Clay Studio, for a L
 unch and Learn on Thursday, July 9. Jim and Eric will discuss how they
  use contemporary ceramic art in their stunning residential interior d
 esigns. Tune in to ask questions about what designers are looking for 
 when placing art in a home!\n\nFor more information visit http://phill
 ytodo.com/events/the-clay-studio-s-lunch-amp-learn-fury-design
DTSTART:20200709T160000Z
DTEND:20200709T170000Z
CATEGORIES:lunch, "&amp", learn
LOCATION:Zoom
WEBSITE:https://www.theclaystudio.org/lunch-and-learn
URL:https://www.theclaystudio.org/lunch-and-learn
CONTACT:(215) 925-3453 x 23
ORGANIZER;CN="Bryan Chan":http://phillytodo.com/profile/BryanChan
ATTACH;FMTTYPE="image/jpeg":https://storage.ning.com/topology/rest/1.0
 /file/get/6526208692?profile=original
ATTENDEE;ROLE=REQ-PARTICIPANT;PARTSTAT=ACCEPTED;RSVP=TRUE;CN="Bryan Ch
 an":http://phillytodo.com/profile/BryanChan
END:VEVENT
END:VCALENDAR
