BEGIN:VCALENDAR
PRODID:NingEventWidget-v1
VERSION:2.0
METHOD:PUBLISH
BEGIN:VEVENT
UID:4320450:Event:170205
DTSTAMP:20260425T112746Z
SUMMARY:The Clay Studio’s Lunch &amp; Learn: Delvin Goode
DESCRIPTION:Join Jennifer Zwilling, Curator of Artistic Programs at Th
 e Clay Studio, and functional ceramic artist Delvin Goode, who will sh
 are his love of ceramic wheel throwing and his time serving in the U.S
 . Army. Goode is drawn to the intimacy of functional ceramics and feel
 s that art is completed when fond memories are attached to the object 
 through use. He creates small-batch series of mugs, bowls, and plates 
 on a potter’s wheel before adding inventive graphics using custom v
 inyl stencils and an airbrush gun. He joined the U.S. Army in 2002 and
  is still enjoying every minute of it. Goode has since earned an MFA a
 t Fort Hays State University, Kansas. Join the Zoom call to ask questi
 ons and listen in on the discussion!\n\nFor more information visit htt
 p://phillytodo.com/events/the-clay-studio-s-lunch-amp-learn-delvin-goo
 de
DTSTART:20220113T170000Z
DTEND:20220113T180000Z
CATEGORIES:lunch, and, learn, with, the, clay, studio
LOCATION:https://temple.zoom.us/j/95106432925
WEBSITE:https://www.theclaystudio.org/lunch-and-learn
URL:https://www.theclaystudio.org/lunch-and-learn
CONTACT:215-925-3453
ORGANIZER:The Clay Studio
ATTACH;FMTTYPE="image/jpeg":https://storage.ning.com/topology/rest/1.0
 /file/get/9987638082?profile=original
ATTENDEE;ROLE=REQ-PARTICIPANT;PARTSTAT=ACCEPTED;RSVP=TRUE;CN="Bryan Ch
 an":http://phillytodo.com/profile/BryanChan
END:VEVENT
END:VCALENDAR
