BEGIN:VCALENDAR
PRODID:NingEventWidget-v1
VERSION:2.0
METHOD:PUBLISH
BEGIN:VEVENT
UID:4320450:Event:60522
DTSTAMP:20260425T203356Z
SUMMARY:The Clay Studio’s Lunch &amp; Learn: Animals All Around Us
DESCRIPTION:Join artists Kip O’Krongly and Lisa Naples, primatologis
 t Andy Baker from the Philadelphia Zoo, paleontologist Ted Daeschler f
 rom the Academy of Natural Sciences, and Jennifer Zwilling, Curator of
  Artistic Programs at The Clay Studio, for a Lunch and Learn on Thursd
 ay, May 21. Hosted by The Clay Studio, the panel will discuss the huma
 n impulse to surround ourselves with animals and will discuss the anim
 als portrayed in The Clay Studio’s current exhibition, \"Animals All
  Around Us.\" They will also take questions from the audience!  \nTh
 e event will be held over Zoom. Use this link to join: https://temple
 .zoom.us/j/99461353664\n\n\nFor more information visit http://phillyto
 do.com/events/the-clay-studio-s-lunch-amp-learn-animals-all-around-us
DTSTART:20200521T160000Z
DTEND:20200521T170000Z
CATEGORIES:zoom, conversation
LOCATION:Zoom
WEBSITE:https://www.theclaystudio.org/lunch-and-learn
URL:https://www.theclaystudio.org/lunch-and-learn
CONTACT:(215) 925-3453 x 23
ORGANIZER:The Clay Studio
ATTACH;FMTTYPE="image/jpeg":https://storage.ning.com/topology/rest/1.0
 /file/get/5165434289?profile=original
ATTENDEE;ROLE=REQ-PARTICIPANT;PARTSTAT=ACCEPTED;RSVP=TRUE;CN="Bryan Ch
 an":http://phillytodo.com/profile/BryanChan
END:VEVENT
END:VCALENDAR
