BEGIN:VCALENDAR
PRODID:NingEventWidget-v1
VERSION:2.0
METHOD:PUBLISH
BEGIN:VEVENT
UID:4320450:Event:60340
DTSTAMP:20260425T130601Z
SUMMARY:The Clay Studio’s Lunch &amp; Learn: Adam Chau
DESCRIPTION:Join artist Adam Chau, Museum Manager of Hudson Valley MOC
 A, and Jennifer Zwilling, Curator of Artistic Programs at The Clay Stu
 dio, for a Lunch & Learn on Thursday, June 25. Hosted by The Clay Stud
 io, the pair will discuss “SENT,” Chau’s latest exhibition, view
 able online and in-person, at The Clay Studio beginning June 25. “SE
 NT” examines queer culture in the digital age, using material derive
 d from smartphone batteries to make a connection between ceramics and 
 technology. They will also be taking questions from the audience! \n\
 nFor more information visit http://phillytodo.com/events/the-clay-stud
 io-s-lunch-amp-learn-adam-chau
DTSTART:20200625T160000Z
DTEND:20200625T170000Z
CATEGORIES:zoom, conversation
LOCATION:Zoom
WEBSITE:https://www.theclaystudio.org/lunch-and-learn
URL:https://www.theclaystudio.org/lunch-and-learn
CONTACT:(215) 925-3453 x 23
ORGANIZER;CN="Bryan Chan":http://phillytodo.com/profile/BryanChan
ATTACH;FMTTYPE="image/jpeg":
ATTENDEE;ROLE=REQ-PARTICIPANT;PARTSTAT=ACCEPTED;RSVP=TRUE;CN="Bryan Ch
 an":http://phillytodo.com/profile/BryanChan
END:VEVENT
END:VCALENDAR
