BEGIN:VCALENDAR
PRODID:NingEventWidget-v1
VERSION:2.0
METHOD:PUBLISH
BEGIN:VEVENT
UID:4320450:Event:168907
DTSTAMP:20260425T112738Z
SUMMARY:The Clay Studio’s Lunch &amp; Learn: A Proper Send Off with 
 Sandi Pierantozzi &amp; Neil Patterson
DESCRIPTION:Join Jennifer Zwilling, Curator of Artistic Programming, a
 nd former Clay Studio Resident Artists Neil Patterson and Sandi Pieran
 tozzi, who founded their own studio, Neighborhood Potters, in the Fair
 mount section of Philadelphia. Patterson and Pierantozzi will share th
 eir fondest memories from their time at The Clay Studio and how it ins
 pired them to the work they do today. We’ll also give attendees a sp
 ecial look at the artwork in The Clay Studio’s benefit auction, A Pr
 oper Send Off. The auction will end on October 2nd, during The Clay St
 udio’s Open House event, A Fond Farewell, when attendees will have t
 he chance to give The Clay Studio’s Old City location a proper send-
 off.  Join the Zoom call to ask questions and listen to the discussio
 n!\n\nFor more information visit http://phillytodo.com/events/the-clay
 -studio-s-lunch-amp-learn-a-proper-send-off-with-sandi
DTSTART:20210909T160000Z
DTEND:20210909T170000Z
CATEGORIES:auction
LOCATION:https://temple.zoom.us/j/97318113463
WEBSITE:https://www.theclaystudio.org/lunch-and-learn
URL:https://www.theclaystudio.org/lunch-and-learn
CONTACT:215-925-3453
ORGANIZER:The Clay Studio
ATTACH;FMTTYPE="image/jpeg":https://storage.ning.com/topology/rest/1.0
 /file/get/9518800472?profile=original
ATTENDEE;ROLE=REQ-PARTICIPANT;PARTSTAT=ACCEPTED;RSVP=TRUE;CN="Bryan Ch
 an":http://phillytodo.com/profile/BryanChan
END:VEVENT
END:VCALENDAR
