BEGIN:VCALENDAR
PRODID:NingEventWidget-v1
VERSION:2.0
METHOD:PUBLISH
BEGIN:VEVENT
UID:4320450:Event:170824
DTSTAMP:20260425T123906Z
SUMMARY:The Clay Studio’s 7th annual Clay Fest, presented by PNC Art
 s Alive
DESCRIPTION:The Clay Studio welcomes people of all ages for a day of m
 aking, music, and muddy fun during the 7th annual Clay Fest, presented
  by PNC Arts Alive. This year’s celebration of clay and community wi
 ll take place at The Clay Studio’s new building in South Kensington.
  From noon to 4 p.m., can participate in a number of activities, inclu
 ding hands-on clay projects, workshops, wheel throwing demos, a group 
 sculpture extravaganza, artist projects, workshops, screen printing to
 tes, and an ice cream social.\n\nFor more information visit http://phi
 llytodo.com/events/the-clay-studio-s-7th-annual-clay-fest-presented-by
 -pnc-arts
DTSTART:20220820T160000Z
DTEND:20220820T200000Z
CATEGORIES:arts, "&amp", crafts
LOCATION:The Clay Studio
WEBSITE:https://www.theclaystudio.org/events/clay-fest
URL:https://www.theclaystudio.org/events/clay-fest
CONTACT:2159238000
ORGANIZER:
ATTACH;FMTTYPE="image/jpeg":https://storage.ning.com/topology/rest/1.0
 /file/get/10671934498?profile=original
ATTENDEE;ROLE=REQ-PARTICIPANT;PARTSTAT=ACCEPTED;RSVP=TRUE;CN="En Route
  Marketing":http://phillytodo.com/profile/EnRouteMarketing
END:VEVENT
END:VCALENDAR
