BEGIN:VCALENDAR
PRODID:NingEventWidget-v1
VERSION:2.0
METHOD:PUBLISH
BEGIN:VEVENT
UID:4320450:Event:170236
DTSTAMP:20260425T141343Z
SUMMARY:The Clay Studio presents Making Place Matter
DESCRIPTION:The Clay Studio presents the opening of Making Place Matte
 r, the inaugural exhibition of its newly built home in Philadelphia at
  1425 N. American Street. We worked with a Council of South Kensington
  neighbors and artists to help design the gallery to be inspiring and 
 welcoming. Using clay and cultural heritage as a source of inspiration
 , Making Place Matter will feature Peruvian-born artist Kukuli Velarde
 , American-born, Massachusetts-based artist Molly Hatch, and Egyptian 
 American artist Ibrahim Said, now based in North Carolina. Each artist
  explores the idea of a place with regard to personal history, cultura
 l heritage, and social justice. The opening event includes tours of th
 e gallery, hands-on clay art-making, and opportunities to meet the art
 ists. The event is free and open to the public.\n\nFor more informatio
 n visit http://phillytodo.com/events/the-clay-studio-presents-making-p
 lace-matter
DTSTART:20220423T180000Z
DTEND:20220423T200000Z
CATEGORIES:art, exhibition
LOCATION:The Clay Studio
WEBSITE:https://www.theclaystudio.org/making-place-matter
URL:https://www.theclaystudio.org/making-place-matter
CONTACT:215-925-3453
ORGANIZER:The Clay Studio
ATTACH;FMTTYPE="image/jpeg":https://storage.ning.com/topology/rest/1.0
 /file/get/10235456290?profile=original
ATTENDEE;ROLE=REQ-PARTICIPANT;PARTSTAT=ACCEPTED;RSVP=TRUE;CN="Bryan Ch
 an":http://phillytodo.com/profile/BryanChan
END:VEVENT
END:VCALENDAR
