BEGIN:VCALENDAR
PRODID:NingEventWidget-v1
VERSION:2.0
METHOD:PUBLISH
BEGIN:VEVENT
UID:4320450:Event:170647
DTSTAMP:20260425T142602Z
SUMMARY:The Clay Studio presents Making Place Matter Symposium
DESCRIPTION:Join The Clay Studio for a day-long symposium exploring th
 e art and ideas behind Making Place Matter, the inaugural exhibition i
 n its newly built South Kensington home. Each artist explores the idea
  of a place with regard to personal history, cultural heritage, and so
 cial justice. \n \nThe free symposium features multiple panels, incl
 uding one led by Making Place Matter co-curator Elizabeth Essner with 
 Peruvian-born artist Kukuli Velarde, American-born, Massachusetts-base
 d artist Molly Hatch, and Egyptian American artist Ibrahim Said, now b
 ased in North Carolina. Additionally, the program will include a speci
 al performance by Velarde, hands-on activities, and conclude with a sp
 ecial keynote address from Dr. Kelli Morgan, Director of Curatorial St
 udies at Tufts University. Lunch will be provided. Making Place Matter
  is supported by the Pew Center for Arts & Heritage. The Making Place 
 Matter Symposium is supported by the Pennsylvania Council on the Arts.
 \n\nFor more information visit http://phillytodo.com/events/the-clay-s
 tudio-presents-making-place-matter-symposium
DTSTART:20220604T130000Z
DTEND:20220604T210000Z
CATEGORIES:symposium
LOCATION:The Clay Studio
WEBSITE:https://www.theclaystudio.org/making-place-matter-symposium
URL:https://www.theclaystudio.org/making-place-matter-symposium
CONTACT:215-925-3453
ORGANIZER;CN="En Route Marketing":http://phillytodo.com/profile/EnRout
 eMarketing
ATTACH;FMTTYPE="image/jpeg":https://storage.ning.com/topology/rest/1.0
 /file/get/10456864091?profile=original
ATTENDEE;ROLE=REQ-PARTICIPANT;PARTSTAT=ACCEPTED;RSVP=TRUE;CN="En Route
  Marketing":http://phillytodo.com/profile/EnRouteMarketing
END:VEVENT
END:VCALENDAR
