BEGIN:VCALENDAR
PRODID:NingEventWidget-v1
VERSION:2.0
METHOD:PUBLISH
BEGIN:VEVENT
UID:4320450:Event:171423
DTSTAMP:20260425T105429Z
SUMMARY:The Clay Studio presents Figuring Space
DESCRIPTION:The Clay Studio presents Figuring Space, a new exhibition 
 comprised of full-scale, figurative sculptures by 12 leading ceramic a
 rtists based in the United States. Each of the artists explores their 
 individual cultural identity and what it means to be human through the
 ir figurative sculptures. The powerful figures will serve as a body of
  evidence to lay bare the issues that permeate American art and social
  culture. Figuring Space is co-curated by Jennifer Zwilling, Curator a
 nd Director of Artistic Programs at The Clay Studio, and Dr. Kelli Mor
 gan, Professor of the Practice and Director of Cultural Studies at Tuf
 ts University.\n\nFor more information visit http://phillytodo.com/eve
 nts/the-clay-studio-presents-figuring-space
DTSTART:20230112T160000Z
DTEND:20230416T210000Z
CATEGORIES:exhibition, ceramic, artists
LOCATION:The Clay Studio
WEBSITE:https://www.theclaystudio.org/exhibitions/figuring-space
URL:https://www.theclaystudio.org/exhibitions/figuring-space
CONTACT:2159253453
ORGANIZER:The Clay Studio
ATTACH;FMTTYPE="image/jpeg":https://storage.ning.com/topology/rest/1.0
 /file/get/10886058456?profile=original
ATTENDEE;ROLE=REQ-PARTICIPANT;PARTSTAT=ACCEPTED;RSVP=TRUE;CN="En Route
  Marketing":http://phillytodo.com/profile/EnRouteMarketing
END:VEVENT
END:VCALENDAR
