BEGIN:VCALENDAR
PRODID:NingEventWidget-v1
VERSION:2.0
METHOD:PUBLISH
BEGIN:VEVENT
UID:4320450:Event:170758
DTSTAMP:20260425T112747Z
SUMMARY:The Clay Studio presents Clay &amp; Conversations with Kukuli 
 Velarde
DESCRIPTION:The Clay Studio presents Clay & Conversations, an exciting
  series of informal conversations and get-togethers with ceramic artis
 ts, curators, scholars, and friends. On September 15, join Jennifer Zw
 illing, Curator of Artistic Programs, as she welcomes Philadelphia-bas
 ed, Peruvian-born Making Place Matter artist Kukuli Velarde. Velarde's
  A Mi Vida project includes a sculptural installation, painting, perfo
 rmance, and off-site interventions. The series focuses on the artist's
  desire to prolong the sensation of holding her now elementary-age dau
 ghter Vida in her arms as a baby. It also embodies her anguish at the 
 family separation at the U.S. - Mexico border. Like many of Velarde's 
 works, these clay sculptures entangle reality and dreamscape, blending
  influences from contemporary life and ancient indigenous Peruvian ima
 gery and patterning.\n\nFor more information visit http://phillytodo.c
 om/events/the-clay-studio-presents-clay-amp-conversations-with-kukuli
DTSTART:20220915T170000Z
DTEND:20220915T180000Z
CATEGORIES:lecture, class, free
LOCATION:The Clay Studio or Zoom (https://temple.zoom.us/j/95814501892
 )
WEBSITE:https://www.theclaystudio.org/clay-and-convo
URL:https://www.theclaystudio.org/clay-and-convo
CONTACT:215-925-3453
ORGANIZER:
ATTACH;FMTTYPE="image/jpeg":https://storage.ning.com/topology/rest/1.0
 /file/get/10784375652?profile=original
ATTENDEE;ROLE=REQ-PARTICIPANT;PARTSTAT=ACCEPTED;RSVP=TRUE;CN="Bryan Ch
 an":http://phillytodo.com/profile/BryanChan
END:VEVENT
END:VCALENDAR
